BEGIN:VCALENDAR
VERSION:2.0
PRODID:-//Talks.cam//talks.cam.ac.uk//
X-WR-CALNAME:Talks.cam
BEGIN:VEVENT
SUMMARY:'Small Modular Reactors - Fad or Future?' - John Molyneux\, Rolls-
 Royce
DTSTART:20180215T163000Z
DTEND:20180215T180000Z
UID:TALK100639@talks.cam.ac.uk
CONTACT:Jo Boyle
DESCRIPTION:Nuclear power stations are always controversial\; do you suppo
 rt or oppose the use of nuclear energy as one of the ways to provide elect
 ricity?  A new nuclear paradigm\, Small Modular Reactors (SMRs) are a type
  of nuclear fission reactor which are smaller than conventional reactors\,
  manufactured at a plant and brought to a site to be fully constructed. \n
   \nRolls-Royce’s John Molyneux is a leading figure in SMR development. 
 He believes in SMR’s huge potential to strengthen the UK's energy securi
 ty.  Find out more about the pros and cons of SMRs technologies and the as
 sociated risks and opportunities.  He will cover the UK’s ambition to bu
 ild one of the world’s first SMRs by the end of the 2020s\, Rolls-Royce'
 s research and development agenda into SMRs and a summary of their propose
 d design.
LOCATION:Department of Engineering - LT6
END:VEVENT
END:VCALENDAR
