BEGIN:VCALENDAR
VERSION:2.0
PRODID:-//Talks.cam//talks.cam.ac.uk//
X-WR-CALNAME:Talks.cam
BEGIN:VEVENT
SUMMARY:The Political Aesthetics of Climate Change - Kathryn Yusoff\, Univ
 ersity of Exeter
DTSTART:20080211T170000Z
DTEND:20080211T183000Z
UID:TALK10064@talks.cam.ac.uk
CONTACT:Benjamin Morris
DESCRIPTION:Kathryn Yusoff is the convenor of the recent "POLAR: Fieldwork
  and Archive Fever" symposium and "POLAR: the Art and Science of Climate C
 hange" public lecture series\, both at the British Library. She will speak
  on visualising Antarctica and the geographical imagination.
LOCATION:CRASSH Seminar Room\, 17 Mill Lane
END:VEVENT
END:VCALENDAR
