BEGIN:VCALENDAR
VERSION:2.0
PRODID:-//Talks.cam//talks.cam.ac.uk//
X-WR-CALNAME:Talks.cam
BEGIN:VEVENT
SUMMARY:Doctor Who: Gridlock - Dr Una McCormack (Anglia Ruskin University)
DTSTART:20180512T170000Z
DTEND:20180512T180000Z
UID:TALK100702@talks.cam.ac.uk
CONTACT:Kieran Kejiou
DESCRIPTION:In this short talk I will discuss the Doctor Who episode 'Grid
 lock'\, and pull out some of writer Russell T Davies' main themes in this 
 story: secularism\, resistance\, and crab monsters. 
LOCATION:Graduate Union Lounge\, 17 Mill Lane\, Cambridge
END:VEVENT
END:VCALENDAR
