BEGIN:VCALENDAR
VERSION:2.0
PRODID:-//Talks.cam//talks.cam.ac.uk//
X-WR-CALNAME:Talks.cam
BEGIN:VEVENT
SUMMARY:How to lead a happy life in the midst of uncertainty - Venerable Y
 uan Wang and Yuan Xun
DTSTART:20180210T130000Z
DTEND:20180210T143000Z
UID:TALK100936@talks.cam.ac.uk
CONTACT:48322
DESCRIPTION:We are delighted to host two Tibetan Buddhist Nuns from Sichua
 n\, China who will talk about applying Buddhist Wisdom in today's society.
 \n\nThis is a non-ticketed event and open to both buddhists and non-buddhi
 st.\n\nLocation: Latimer Room\, Clare College\n\nClick attending on our "f
 acebook event":https://www.facebook.com/events/176706289606034??ti=ia\n
LOCATION:Latimer  Room\, Clare College
END:VEVENT
END:VCALENDAR
