BEGIN:VCALENDAR
VERSION:2.0
PRODID:-//Talks.cam//talks.cam.ac.uk//
X-WR-CALNAME:Talks.cam
BEGIN:VEVENT
SUMMARY:Representations and partition function zeros of the Potts model wi
 th and without boundaries - Jacobsen\, J (Paris-Sud)
DTSTART:20080125T113000Z
DTEND:20080125T123000Z
UID:TALK10109@talks.cam.ac.uk
CONTACT:Mustapha Amrani
DESCRIPTION:
LOCATION:Seminar room1\, Newton Institute
END:VEVENT
END:VCALENDAR
