BEGIN:VCALENDAR
VERSION:2.0
PRODID:-//Talks.cam//talks.cam.ac.uk//
X-WR-CALNAME:Talks.cam
BEGIN:VEVENT
SUMMARY:The role of language contact in the evolution of an Italian transi
 tional dialect - Mair Parry (Bristol)
DTSTART:20080320T100000Z
DTEND:20080320T104000Z
UID:TALK10157@talks.cam.ac.uk
CONTACT:Dr Anne Breitbarth
DESCRIPTION:Abstract not available
LOCATION:GR-06/07\, English Faculty Building
END:VEVENT
END:VCALENDAR
