BEGIN:VCALENDAR
VERSION:2.0
PRODID:-//Talks.cam//talks.cam.ac.uk//
X-WR-CALNAME:Talks.cam
BEGIN:VEVENT
SUMMARY:The History of London Underground - Dr Stephen Halliday
DTSTART:20080125T203000Z
DTEND:20080125T223000Z
UID:TALK10171@talks.cam.ac.uk
CONTACT:The CURC Secretary
DESCRIPTION:Stephen Halliday read History at Pembroke College\, Cambridge\
 , and is currently a professor at the Business School of Buckinghamshire N
 ew University. He specialises in the study of the engineers and builders o
 f Victorian London\, and his publications include The Great Stink of Londo
 n (1999)\, Underground to Everywhere (2001)\, Making the Metropolis (2003)
  and Water: A Turbulent History (2004).
LOCATION:Andrew Room\, Sidney Sussex College
END:VEVENT
END:VCALENDAR
