BEGIN:VCALENDAR
VERSION:2.0
PRODID:-//Talks.cam//talks.cam.ac.uk//
X-WR-CALNAME:Talks.cam
BEGIN:VEVENT
SUMMARY:Combining tools and technologies to identify post-transcriptional 
 modifications in RNA - Prof. Patrick Limbach\, University of Cincinnati
DTSTART:20180227T100000Z
DTEND:20180227T110000Z
UID:TALK102187@talks.cam.ac.uk
CONTACT:Alper Akay
DESCRIPTION:Abstract not available
LOCATION:Gurdon Institute Tea Room
END:VEVENT
END:VCALENDAR
