BEGIN:VCALENDAR
VERSION:2.0
PRODID:-//Talks.cam//talks.cam.ac.uk//
X-WR-CALNAME:Talks.cam
BEGIN:VEVENT
SUMMARY:Stem Cells\, cancer and brain repair - Colin Watts:  Cambridge Cen
 tre for Brain Repair
DTSTART:20080131T160000Z
DTEND:20080131T170000Z
UID:TALK10223@talks.cam.ac.uk
CONTACT:8115
DESCRIPTION:Abstract not available
LOCATION:Hodgkin Huxley Seminar Room\, (Old Physiology tea room on 'D' flo
 or)
END:VEVENT
END:VCALENDAR
