BEGIN:VCALENDAR
VERSION:2.0
PRODID:-//Talks.cam//talks.cam.ac.uk//
X-WR-CALNAME:Talks.cam
BEGIN:VEVENT
SUMMARY:Immune evasion and escape by Hepatitis C: Challenges for Vaccinati
 on - Prof Jonathan Heeney\, Department of Veterinary Medicine\, University
  of Cambridge
DTSTART:20080313T120000Z
DTEND:20080313T130000Z
UID:TALK10259@talks.cam.ac.uk
CONTACT:Dr Colin Crump
DESCRIPTION:Abstract not available
LOCATION:Sackler Lecture Theatre\, Level 7\, CIMR\, Addenbrooke’s Hospit
 al
END:VEVENT
END:VCALENDAR
