BEGIN:VCALENDAR
VERSION:2.0
PRODID:-//Talks.cam//talks.cam.ac.uk//
X-WR-CALNAME:Talks.cam
BEGIN:VEVENT
SUMMARY:Central Limit Theorems in Simple Exclusion Processes - Akuan Liu
DTSTART:20180315T163000Z
DTEND:20180315T173000Z
UID:TALK103138@talks.cam.ac.uk
CONTACT:Loren E. Held
DESCRIPTION:The simple exclusion process (SEP) is an interacting particle 
 system which represents the evolution of random walks on the d-dimensional
  lattice\, where jumps to already occupied sites are suppressed. I will pr
 esent some probabilistic properties of the SEP\, and use them to prove a c
 entral limit theorem for the position of a tagged particle.
LOCATION:MR13
END:VEVENT
END:VCALENDAR
