BEGIN:VCALENDAR
VERSION:2.0
PRODID:-//Talks.cam//talks.cam.ac.uk//
X-WR-CALNAME:Talks.cam
BEGIN:VEVENT
SUMMARY:Genomics and Evolutionary Genetics Club - Simon Harris (Sanger Ins
 titute) and Maanasa Raghavan (Dept Zoology)
DTSTART:20180412T150000Z
DTEND:20180412T160000Z
UID:TALK103285@talks.cam.ac.uk
CONTACT:F. Jiggins
DESCRIPTION:Maanasa Raghavan: Reconstructing human population histories us
 ing ancient genomics\n\nSimon Harris: Pathogen Genomics
LOCATION:Part 2 Seminar Room\, Department of Genetics
END:VEVENT
END:VCALENDAR
