BEGIN:VCALENDAR
VERSION:2.0
PRODID:-//Talks.cam//talks.cam.ac.uk//
X-WR-CALNAME:Talks.cam
BEGIN:VEVENT
SUMMARY:'Ethical Aspects of Science Policy' - Prof. John Wood:  Imperial C
 ollege\, London
DTSTART:20080219T130000Z
DTEND:20080219T140000Z
UID:TALK10336@talks.cam.ac.uk
CONTACT:7235
DESCRIPTION:Abstract not available
LOCATION:Garden Room\, Library Building\, St Edmund's College
END:VEVENT
END:VCALENDAR
