BEGIN:VCALENDAR
VERSION:2.0
PRODID:-//Talks.cam//talks.cam.ac.uk//
X-WR-CALNAME:Talks.cam
BEGIN:VEVENT
SUMMARY: Title: ‘Soldiering on with steroid-responsive asthma’ - Prese
 nter: James Russell on behalf of George Follows
DTSTART:20180502T123000Z
DTEND:20180502T130000Z
UID:TALK103939@talks.cam.ac.uk
CONTACT:Vicky Clarke
DESCRIPTION:Specialist Lead: Professor Tony Green\n\nLead Consultant: Geor
 ge Follows\n\nPresenter: James Russell on behalf of George Follows\n\nTitl
 e: ‘Soldiering on with steroid-responsive asthma’\n\nSpecialty: Haemat
 ology\n\n
LOCATION:William Harvey Lecture Theatre
END:VEVENT
END:VCALENDAR
