BEGIN:VCALENDAR
VERSION:2.0
PRODID:-//Talks.cam//talks.cam.ac.uk//
X-WR-CALNAME:Talks.cam
BEGIN:VEVENT
SUMMARY:Super-resolution Imaging - Steven Lee
DTSTART:20180419T150000Z
DTEND:20180419T160000Z
UID:TALK104293@talks.cam.ac.uk
CONTACT:Rachel Furner
DESCRIPTION:For more information visit "http://www.lightmicroscopy.cruk.ca
 m.ac.uk/2887-2/":http://www.lightmicroscopy.cruk.cam.ac.uk/2887-2/
LOCATION:CRUK CI Lecture Theatre
END:VEVENT
END:VCALENDAR
