BEGIN:VCALENDAR
VERSION:2.0
PRODID:-//Talks.cam//talks.cam.ac.uk//
X-WR-CALNAME:Talks.cam
BEGIN:VEVENT
SUMMARY:Binary Bondi-Hoyle-Lyttleton accretion - Tom Comerford
DTSTART:20180613T121500Z
DTEND:20180613T124500Z
UID:TALK104539@talks.cam.ac.uk
CONTACT:Dr Nick Bate
DESCRIPTION:Abstract not available
LOCATION:Sackler Lecture Theatre\, IoA
END:VEVENT
END:VCALENDAR
