BEGIN:VCALENDAR
VERSION:2.0
PRODID:-//Talks.cam//talks.cam.ac.uk//
X-WR-CALNAME:Talks.cam
BEGIN:VEVENT
SUMMARY:Compressed Sensing Plus Motion (CS+M): A New Perspective for Impro
 ving Undersampled MR Image Reconstruction - Angelica I. Aviles-Rivero (Uni
 versity of Cambridge)
DTSTART:20180502T145000Z
DTEND:20180502T152500Z
UID:TALK104791@talks.cam.ac.uk
CONTACT:INI IT
DESCRIPTION:
LOCATION:Seminar Room 1\, Newton Institute
END:VEVENT
END:VCALENDAR
