BEGIN:VCALENDAR
VERSION:2.0
PRODID:-//Talks.cam//talks.cam.ac.uk//
X-WR-CALNAME:Talks.cam
BEGIN:VEVENT
SUMMARY:Transboundary protected areas: source of cooperation or conflict? 
 - Carolina Hazin\, Global Biodiversity Policy Coordinator\, BirdLife Inter
 national 
DTSTART:20180531T130000Z
DTEND:20180531T140000Z
UID:TALK104974@talks.cam.ac.uk
CONTACT:Victoria Plutshack
DESCRIPTION:Abstract not available
LOCATION:David Attenborough Building\, New Museums Site\, Room 2.49
END:VEVENT
END:VCALENDAR
