BEGIN:VCALENDAR
VERSION:2.0
PRODID:-//Talks.cam//talks.cam.ac.uk//
X-WR-CALNAME:Talks.cam
BEGIN:VEVENT
SUMMARY:Statistical methods in X-ray crystallography - Professor Randy Rea
 d\, CIMR
DTSTART:20080222T120000Z
DTEND:20080222T121000Z
UID:TALK10518@talks.cam.ac.uk
CONTACT:Duncan Simpson
DESCRIPTION:By improving our statistical understanding of the X-ray diffra
 ction experiment\, we are able to develop new likelihood-based methods to 
 solve the crystal structures of proteins.  These are implemented in our pr
 ogram\, _Phaser_ (http://www-structmed.cimr.cam.ac.uk/phaser/index.html). 
  Some of the general concepts and results will be presented.
LOCATION:Sackler Lecture Theatre (Level 7)\, Cambridge Institute for Medic
 al Research
END:VEVENT
END:VCALENDAR
