BEGIN:VCALENDAR
VERSION:2.0
PRODID:-//Talks.cam//talks.cam.ac.uk//
X-WR-CALNAME:Talks.cam
BEGIN:VEVENT
SUMMARY:CRASSH Impact: Reni Eddo-Lodge and Priyamvada Gopal in Conversatio
 n - Reni Eddo-Lodge
DTSTART:20180515T153000Z
DTEND:20180515T170000Z
UID:TALK105283@talks.cam.ac.uk
CONTACT:CRASSH Enquiries
DESCRIPTION:The CRASSH Impact speaker this Easter Term will be Reni Eddo-L
 odge\, whose Why I'm No Longer Talking to White People About Race recently
  won the 2018 Jhalak Prize for the best book by a British BAME writer. \n\
 nOn 15 May 2018\, Reni Eddo-Lodge will be in conversation with Priyamvada 
 Gopal\, Reader in Anglophone and Related Literature at the University of C
 ambridge. The event is free and open to the public. No registration requir
 ed.\n\nThe Cambridge Centre for Research in the Arts\, Social Sciences and
  Humanities (CRASSH) is one of the world’s largest interdisciplinary res
 earch institutions. For more information\, please visit: www.crassh.cam.ac
 .uk/
LOCATION:Babbage Lecture Theatre (New Museum Site)
END:VEVENT
END:VCALENDAR
