BEGIN:VCALENDAR
VERSION:2.0
PRODID:-//Talks.cam//talks.cam.ac.uk//
X-WR-CALNAME:Talks.cam
BEGIN:VEVENT
SUMMARY:Mixing Realities - Rupert Harris (http://www.linkedin.com/in/ruper
 tharris)\, Beth Singler (https://bvlsingler.com/)\, and Avril Furness (htt
 p://www.avrilfurness.com/)
DTSTART:20180501T130000Z
DTEND:20180501T150000Z
UID:TALK105304@talks.cam.ac.uk
CONTACT:69658
DESCRIPTION:Our experience of the world is now increasingly mediated by di
 gital or ‘smart’ devices. We invite artists\, academics\, developers a
 nd companies to join us in looking at exemplar projects in the world of mi
 xed reality. This will include practical projects (installations) as well 
 as assessment of where the field of mixed reality is going.\n\n- Rupert Ha
 rris (www.linkedin.com/in/rupertharris)\, Creative Director at Animal Vege
 table Mineral who has recently worked on digital experiences as part of Ai
  Wei Wei's RA exhibition in Jan 2017\n- Beth Singler (https://bvlsingler.c
 om)\, Associate Fellow at Cambridge's Centre for Future Intelligence\, she
 's recently researched whether machines can feel pain (Pain in the Machine
 )\n- Avril Furness (http://www.avrilfurness.com/)\, VR Film Maker and Dire
 ctor\, Avril will be talking about her past\, present\, and future project
 s - read about her award winning assisted suicide VR experience here - htt
 p://www.avrilfurness.com/project/the-last-moments/\n\nDon't miss out! Sign
  up today.\n\nKindly hosted by Anglia Ruskin University (http://www.anglia
 .ac.uk/)\n\nSupported by Arts Council England (http://www.artscouncil.org.
 uk/)\, GCGP LEP (http://www.gcgp.co.uk/)\, ARM (https://www.arm.com/)\, Ca
 mbridge Consultants (https://www.cambridgeconsultants.com/home) and Anglia
  Ruskin University (http://www.anglia.ac.uk/).\n\nWe look forward to seein
 g you there!
LOCATION:Anglia Ruskin University\, East Road\, Ruskin gallery and room Ru
 s 203
END:VEVENT
END:VCALENDAR
