BEGIN:VCALENDAR
VERSION:2.0
PRODID:-//Talks.cam//talks.cam.ac.uk//
X-WR-CALNAME:Talks.cam
BEGIN:VEVENT
SUMMARY:Law and International Religious Freedom: The Rise and Decline of t
 he American Model - Dr Pasquale Annicchino
DTSTART:20180507T110000Z
DTEND:20180507T010000Z
UID:TALK105772@talks.cam.ac.uk
CONTACT:Judd Birdsall
DESCRIPTION:Dr Pasquale Annicchino’s book 'Law and International Religio
 us Freedom: The Rise and Decline of the American Model' analyses the promo
 tion and protection of freedom of religion in the international arena with
  a particular focus on the role of the United States and its impact on the
  legislation and policies of third countries and the EU. \n\nPasquale Anni
 cchino is a CIRIS Senior Research Associate and a Research Fellow at the R
 obert Schuman Centre for Advanced Studies at the European University Insti
 tute in Florence\, Italy. He has been adjunct professor of law at Brigham 
 Young University Law School and a visiting professor at the Catholic Unive
 rsity of Leuven (Belgium).\n
LOCATION: Room 138\, Alison Richard Building\, Sidgwick Site\, 7 West Road
 \, Cambridge\, CB3 9DT
END:VEVENT
END:VCALENDAR
