BEGIN:VCALENDAR
VERSION:2.0
PRODID:-//Talks.cam//talks.cam.ac.uk//
X-WR-CALNAME:Talks.cam
BEGIN:VEVENT
SUMMARY:Interactive talk for students and Postdocs as part of the &quot\;A
 lternative careers in science&quot\; series - Katherine Kahn from Bill &am
 p\; Melinda Gates Foundation
DTSTART:20180601T130000Z
DTEND:20180601T153000Z
UID:TALK106375@talks.cam.ac.uk
CONTACT:Divyashree C Nageswaran
DESCRIPTION:Abstract not available
LOCATION:Large Lecture Theatre\, Department of Plant Sciences
END:VEVENT
END:VCALENDAR
