BEGIN:VCALENDAR
VERSION:2.0
PRODID:-//Talks.cam//talks.cam.ac.uk//
X-WR-CALNAME:Talks.cam
BEGIN:VEVENT
SUMMARY:Windows Insider Program - Dona Sarkar and Jeremiah Marble\, Micros
 oft Research Redmond
DTSTART:20180604T131500Z
DTEND:20180604T140000Z
UID:TALK106654@talks.cam.ac.uk
CONTACT:Microsoft Research Cambridge Talks Admins
DESCRIPTION:Windows Insiders are the millions who represent the billions. 
 We’ll share with you the kinds of projects Windows Insiders are doing al
 l over the world—AND you’ll learn about #GooseBus\, the super-top secr
 et project we are co-creating with Insiders to solve the problem of lack o
 f tech talent in every industry. 
LOCATION:Small Lecture Theatre\, Microsoft Research Ltd\, 21 Station Road\
 , Cambridge\, CB1 2FB
END:VEVENT
END:VCALENDAR
