BEGIN:VCALENDAR
VERSION:2.0
PRODID:-//Talks.cam//talks.cam.ac.uk//
X-WR-CALNAME:Talks.cam
BEGIN:VEVENT
SUMMARY:Alzheimers disease immunology &amp\; molecular mimicry: The potato
  virus Y protein binds to the Amyloid Beta Protein - Prof. Robert Friedlan
 d
DTSTART:20080625T110000Z
DTEND:20080625T120000Z
UID:TALK10710@talks.cam.ac.uk
CONTACT:8434
DESCRIPTION:Abstract not available
LOCATION:Brain Repair Centre\, Forvie Site\, Addenbrookes
END:VEVENT
END:VCALENDAR
