BEGIN:VCALENDAR
VERSION:2.0
PRODID:-//Talks.cam//talks.cam.ac.uk//
X-WR-CALNAME:Talks.cam
BEGIN:VEVENT
SUMMARY:&quot\;Activity-dependence of myelination&quot\; and &quot\;Relati
 ng Entropy and Integration in Anaesthesia and Disorders of Consciousness&q
 uot\; - Jennifer Jia and Andrea Luppi\, Dep Clinical Neuroscience\, Cambri
 dge
DTSTART:20180619T110000Z
DTEND:20180619T120000Z
UID:TALK107605@talks.cam.ac.uk
CONTACT:Shannon Tinley-Browne
DESCRIPTION:Clinical Neuroscience Student seminar. Two speakers every Frid
 ay.\nFirst speaker - Jennifer Jia\nSecond speaker - Andrea Luppi\n\n
LOCATION:James Fawcett Seminar Room\, van Geest Building
END:VEVENT
END:VCALENDAR
