BEGIN:VCALENDAR
VERSION:2.0
PRODID:-//Talks.cam//talks.cam.ac.uk//
X-WR-CALNAME:Talks.cam
BEGIN:VEVENT
SUMMARY:Dualizability in the higher Morita category - Claudia Scheimbauer 
 (Max-Planck-Institut für Mathematik\, Bonn)
DTSTART:20180706T090000Z
DTEND:20180706T100000Z
UID:TALK107809@talks.cam.ac.uk
CONTACT:INI IT
DESCRIPTION:In this talk I will explain how one can use geometric argument
 s to obtain results on dualizablity in a ``factorization version&rsquo\;&r
 squo\; of the Morita category. We will relate our results to previous dual
 izability results (by Douglas-Schommer-Pries-Snyder and Brochier-Jordan-Sn
 yder on Turaev-Viro and Reshetikin-Turaev theories). We will discuss appli
 cations of these dualiability results: one is to construct examples of low
 -dimensional field theories &ldquo\;relative&rdquo\; to their observables.
  An example will be given by Azumaya algebras\, for example polynomial dif
 ferential operators (Weyl algebra) in positive characteristic and its cent
 er. (This is joint work with Owen Gwilliam.)
LOCATION:Seminar Room 1\, Newton Institute
END:VEVENT
END:VCALENDAR
