BEGIN:VCALENDAR
VERSION:2.0
PRODID:-//Talks.cam//talks.cam.ac.uk//
X-WR-CALNAME:Talks.cam
BEGIN:VEVENT
SUMMARY:The Geometric Diagonal - Bjorn Ian Dundas (Universitetet i Bergen)
DTSTART:20180717T143000Z
DTEND:20180717T153000Z
UID:TALK108328@talks.cam.ac.uk
CONTACT:INI IT
DESCRIPTION:
LOCATION:Seminar Room 2\, Newton Institute
END:VEVENT
END:VCALENDAR
