BEGIN:VCALENDAR
VERSION:2.0
PRODID:-//Talks.cam//talks.cam.ac.uk//
X-WR-CALNAME:Talks.cam
BEGIN:VEVENT
SUMMARY:Synapse Machines and Mental State - Professor Seth Grant\, The San
 ger Institute
DTSTART:20080318T100000Z
DTEND:20080318T103000Z
UID:TALK10856@talks.cam.ac.uk
CONTACT:Liam Garvey
DESCRIPTION:Abstract not available
LOCATION:Queens Building\, Emmanuel College\, Cambridge
END:VEVENT
END:VCALENDAR
