BEGIN:VCALENDAR
VERSION:2.0
PRODID:-//Talks.cam//talks.cam.ac.uk//
X-WR-CALNAME:Talks.cam
BEGIN:VEVENT
SUMMARY:Walking on sunshine: What is the evidence for the effects of walki
 ng on mental health? - Dr Paul Kelly\, University of  Edinburgh\, UK.
DTSTART:20180926T113000Z
DTEND:20180926T123000Z
UID:TALK108673@talks.cam.ac.uk
CONTACT:Paul Browne
DESCRIPTION:Dr Paul Kelly has been a Lecturer in Physical Activity for Hea
 lth at the University of Edinburgh since August 2014 is based at the Physi
 cal Activity for Health Research Centre (PAHRC) led by Prof Nanette Mutrie
  MBE.\n\nHis primary research focus is the measurement of physical activit
 y and the evaluation of physical activity interventions. Paul is a member 
 of the Communication and Surveillance Expert Group for the 2018 Chief Medi
 cal Officer Physical Activity Guidelines update – if you have any though
 ts on communicating physical activity for health to the public please get 
 in touch!\n\nPaul previously worked at the University of Oxford\, where he
  completed a PhD (2010-2013) in using wearable cameras to measure active t
 ravel.
LOCATION:Meeting Rooms 1&amp\;2\, MRC Epidemiology Unit\, Level 3\, Instit
 ute of Metabolic Science\, Cambridge Biomedical Campus\, Cambridge CB2 0QQ
END:VEVENT
END:VCALENDAR
