BEGIN:VCALENDAR
VERSION:2.0
PRODID:-//Talks.cam//talks.cam.ac.uk//
X-WR-CALNAME:Talks.cam
BEGIN:VEVENT
SUMMARY:Universality in solid state physics and Constructive Renormalizati
 on Group - Vieri Mastropietro (Università degli Studi di Milano)
DTSTART:20180904T123000Z
DTEND:20180904T133000Z
UID:TALK109183@talks.cam.ac.uk
CONTACT:INI IT
DESCRIPTION:I will review some universality results in graphene and Hall i
 nsulators obtained by Renormalization Group methods.
LOCATION:Seminar Room 1\, Newton Institute
END:VEVENT
END:VCALENDAR
