BEGIN:VCALENDAR
VERSION:2.0
PRODID:-//Talks.cam//talks.cam.ac.uk//
X-WR-CALNAME:Talks.cam
BEGIN:VEVENT
SUMMARY:Building the mammalian hypothalamus:from cells to circuits - Profe
 ssor Seth Blackshaw\, Johns Hopkins University School of Medicine
DTSTART:20180918T121500Z
DTEND:20180918T131500Z
UID:TALK109780@talks.cam.ac.uk
CONTACT:Karen Laurence
DESCRIPTION:Abstract not available
LOCATION:Institute of Metabolic Science (IMS)\, Level 4 ATC\, Seminar room
 s 1\,2 &amp\; 3
END:VEVENT
END:VCALENDAR
