BEGIN:VCALENDAR
VERSION:2.0
PRODID:-//Talks.cam//talks.cam.ac.uk//
X-WR-CALNAME:Talks.cam
BEGIN:VEVENT
SUMMARY:Balancing acts in the control of plant cell reprogramming - Dr Mom
 oko Ikeuchi (RIKEN Centre for Sustainable Resource Science)
DTSTART:20180925T141500Z
DTEND:20180925T151500Z
UID:TALK109957@talks.cam.ac.uk
CONTACT:Hannah Main
DESCRIPTION:Abstract not available
LOCATION:Auditorium of The Sainsbury Laboratory (Bateman Street)
END:VEVENT
END:VCALENDAR
