BEGIN:VCALENDAR
VERSION:2.0
PRODID:-//Talks.cam//talks.cam.ac.uk//
X-WR-CALNAME:Talks.cam
BEGIN:VEVENT
SUMMARY:Blizzard blowing again and considerable discomfort on board as usu
 al - Dr Ursula Rack\, University of Canterbury
DTSTART:20150430T120000Z
DTEND:20150430T130000Z
UID:TALK110125@talks.cam.ac.uk
CONTACT:Bryan Lintott
DESCRIPTION:Dr. Ursula Rack\, of Gateway Antarctica\, was awarded a COMNAP
  Research Fellowship 2012/13 for “Reconstructing Historic Antarctic clim
 ate data from Logbooks and Diaries of the Heroic era”. Her source materi
 al includes archival resources at the Scott Polar Research Institute.
LOCATION:Seminar Room
END:VEVENT
END:VCALENDAR
