BEGIN:VCALENDAR
VERSION:2.0
PRODID:-//Talks.cam//talks.cam.ac.uk//
X-WR-CALNAME:Talks.cam
BEGIN:VEVENT
SUMMARY:Randomness in classical and quantum dynamics - Professor Thomas Sp
 encer\, Institute for Advanced Study\, Princeton
DTSTART:20181024T190000Z
DTEND:20181024T200000Z
UID:TALK110947@talks.cam.ac.uk
CONTACT:Fionn Bishop
DESCRIPTION:This talk will review conjectures and theorems about some simp
 le dynamical models. These include random walk\, edge-reinforced random wa
 lk\, probabilistic cellular automata and a classical model of quantum dyna
 mics. Pictures will help to give an intuitive view of the dynamics.
LOCATION:Wolfson Lecture Theatre\,  Department of Chemistry\, Lensfield Ro
 ad
END:VEVENT
END:VCALENDAR
