BEGIN:VCALENDAR
VERSION:2.0
PRODID:-//Talks.cam//talks.cam.ac.uk//
X-WR-CALNAME:Talks.cam
BEGIN:VEVENT
SUMMARY:Platelets: biogenesis\, ballooning and biorepair - Professor Alast
 air Poole\, University of Bristol
DTSTART:20190207T130000Z
DTEND:20190207T140000Z
UID:TALK111064@talks.cam.ac.uk
CONTACT:47770
DESCRIPTION:Deputy Director of the Bristol Heart Institute\,\nBristol Plat
 elet Group\,\nUniversity of Bristol.\nhttps://sites.google.com/site/bristo
 lplateletgroup/\n
LOCATION:School of Clinical Medicine\, Lecture Theatre Two
END:VEVENT
END:VCALENDAR
