BEGIN:VCALENDAR
VERSION:2.0
PRODID:-//Talks.cam//talks.cam.ac.uk//
X-WR-CALNAME:Talks.cam
BEGIN:VEVENT
SUMMARY:Antibiotic Awareness Week - Dr Nick Brown
DTSTART:20181114T130000Z
DTEND:20181114T140000Z
UID:TALK111397@talks.cam.ac.uk
CONTACT:Vicky Clarke
DESCRIPTION:Antibiotic Awareness Week\n\nSpecialist Lead: Dr Nick Brown\n\
 nPresenter:\n\nTitle:\n
LOCATION:William Harvey Lecture Theatre
END:VEVENT
END:VCALENDAR
