BEGIN:VCALENDAR
VERSION:2.0
PRODID:-//Talks.cam//talks.cam.ac.uk//
X-WR-CALNAME:Talks.cam
BEGIN:VEVENT
SUMMARY:Particle Physics &amp\; CERN - Professor Daniela Bortoletto
DTSTART:20181106T180000Z
DTEND:20181106T200000Z
UID:TALK111787@talks.cam.ac.uk
CONTACT:Maya Ben Yami
DESCRIPTION:Professor Bortoletto is a Kurti Senior Research Fellow of the 
 Institue of Physics\, University of Oxford\, before which she was the E. M
 . Purcell Distinguished Professor of Physics at Purdue University. She is 
 an experimental particle physicist working on the ATLAS experiment at the 
 Large Hadron Collider in Geneva\, Switzerland. She is using data from the 
 LHC to study the properties of the Higgs Boson\, which she helped discover
  in 2012\, including its possible couplings to dark matter particles. She 
 is also searching for higher mass Higgs-like particles and helping to upgr
 ade of the ATLAS inner tracking system by 2022.\n\nThe talk is open to the
  public!\n*Start: 18:00*\n1hr talk followed by a Q&A\, then cheese & wine 
 & a chat!\n\nWhere: Pfizer lecture theatre\, Chemistry department\nMembers
 : Free | Non-members: £3\n\nhttps://www.facebook.com/events/5025478934904
 43/
LOCATION:Pfizer Lecture Theatre\, Department of Chemistry\, Lensfield Road
 \, Cambridge
END:VEVENT
END:VCALENDAR
