BEGIN:VCALENDAR
VERSION:2.0
PRODID:-//Talks.cam//talks.cam.ac.uk//
X-WR-CALNAME:Talks.cam
BEGIN:VEVENT
SUMMARY:Set-theoretic solutions of the Yang-Baxter equation - a combinator
 ial approach - Gateva-Ivanova\, T (IMI\, Bulgarian Academy of Sciences)
DTSTART:20080320T110000Z
DTEND:20080320T120000Z
UID:TALK11197@talks.cam.ac.uk
CONTACT:Mustapha Amrani
DESCRIPTION:
LOCATION:Discussion Room\, Newton Institute
END:VEVENT
END:VCALENDAR
