BEGIN:VCALENDAR
VERSION:2.0
PRODID:-//Talks.cam//talks.cam.ac.uk//
X-WR-CALNAME:Talks.cam
BEGIN:VEVENT
SUMMARY:The UK Atomic Energy Authority: Bringing Fusion Power to the Grid 
 - CUED Alumni Chris Stuart and Darren Bookless
DTSTART:20181023T113000Z
DTEND:20181023T123000Z
UID:TALK113032@talks.cam.ac.uk
CONTACT:Jo Boyle
DESCRIPTION:Two CUED alumni present an introduction to a world leading res
 earch institute. Hosting some of the UK’s most impressive scientific end
 eavours\, UKAEA is an exciting multidisciplinary business which aims to po
 sition the UK as a leader in sustainable nuclear energy\, and ultimately l
 ead the world in the commercial development of fusion power and related te
 chnologies. And… they’re recruiting!
LOCATION:Department of Engineering - LR5
END:VEVENT
END:VCALENDAR
