BEGIN:VCALENDAR
VERSION:2.0
PRODID:-//Talks.cam//talks.cam.ac.uk//
X-WR-CALNAME:Talks.cam
BEGIN:VEVENT
SUMMARY:The Maths of Celtic Knots - Dr. Jenny Gage\, Millennium Mathematic
 s Project
DTSTART:20080620T100000Z
DTEND:20080620T110000Z
UID:TALK11314@talks.cam.ac.uk
CONTACT:6775
DESCRIPTION:*Abstract:* In this workshop we will explore the mathematics o
 f Celtic knots.  We will learn how the dimensions of simple knots determin
 e the number of strands from which the knots are formed\, as well as the n
 umber of times the strands cross each other.  We will make predictions abo
 ut the nature of these mathematical relationships and test them out.  Then
  we will examine more complex knots and investigate the patterns which det
 ermine their construction and how their symmetry is related to these patte
 rns.\n\n*About the speaker:* Dr Jenny Gage was a mathematics teacher for s
 ome 15 years before joining the MMP as the academic coordinator for the Mo
 tivate videoconferencing project.  She is passionate about providing stude
 nts and teachers personal\, hands-on mathematical experiences\, and about 
 facilitating maths opportunities beyond the confines of a syllabus.  Recen
 tly\, she has worked with teachers and students in South Africa and Pakist
 an\, both in person and remotely.  Developing these and other internationa
 l links is an important focus of Jenny’s work with the MMP.\n\n*Audience
 :* suggested age range - 12-14\, KS 3\n\nAdmission to the lecture is free 
 but by ticket only. For tickets please e-mail Kerstin Enright at *mmptalks
 @hermes.cam.ac.uk* or call 01223 766839\; include your name\, the title an
 d date of the lecture\, the number of tickets requested and a postal addre
 ss in your message.\n\nVisit the "MMP site":http://mmp.maths.org/events/ev
 entlist.php to sign up for future notifications of MMP events
LOCATION:MR2\, Mathematical Sciences\, Centre for
END:VEVENT
END:VCALENDAR
