BEGIN:VCALENDAR
VERSION:2.0
PRODID:-//Talks.cam//talks.cam.ac.uk//
X-WR-CALNAME:Talks.cam
BEGIN:VEVENT
SUMMARY:Optical Properties Of Atomically Thin Semiconductors  - Prof. Mare
 k Potemski\, Laboratoire National Des Champs Magnétiques Intenses\, Franc
 e
DTSTART:20181130T160000Z
DTEND:20181130T170000Z
UID:TALK113371@talks.cam.ac.uk
CONTACT:Dr Anna Ott
DESCRIPTION:Abstract not available
LOCATION:Cambridge Graphene Centre Seminar Room
END:VEVENT
END:VCALENDAR
