BEGIN:VCALENDAR
VERSION:2.0
PRODID:-//Talks.cam//talks.cam.ac.uk//
X-WR-CALNAME:Talks.cam
BEGIN:VEVENT
SUMMARY:A role for hippocampal LTP in memory: it's not all associative! - 
 Dr David Bannerman:  Department of Experimental Psychology\, University of
  Oxford
DTSTART:20080502T153000Z
DTEND:20080502T163000Z
UID:TALK11408@talks.cam.ac.uk
DESCRIPTION:Abstract not available
LOCATION:Department of Experimental Psychology
END:VEVENT
END:VCALENDAR
