BEGIN:VCALENDAR
VERSION:2.0
PRODID:-//Talks.cam//talks.cam.ac.uk//
X-WR-CALNAME:Talks.cam
BEGIN:VEVENT
SUMMARY:Ocean Acidification: the other CO2 problem - Prof. Nick Owens: Dir
 ector\, British Antarctic Survey
DTSTART:20080424T153000Z
DTEND:20080424T163000Z
UID:TALK11412@talks.cam.ac.uk
DESCRIPTION:Abstract not available
LOCATION:Buckingham House Lecture Theatre\, New Hall\, Huntingdon Road\, C
 ambridge CB3 0DF
END:VEVENT
END:VCALENDAR
