BEGIN:VCALENDAR
VERSION:2.0
PRODID:-//Talks.cam//talks.cam.ac.uk//
X-WR-CALNAME:Talks.cam
BEGIN:VEVENT
SUMMARY:Q&amp\;A session - Chris Lamb\, Debian Project Leader
DTSTART:20181106T131500Z
DTEND:20181106T134500Z
UID:TALK114232@talks.cam.ac.uk
CONTACT:Allison Randal
DESCRIPTION:Chris is giving a Security Seminar on reproducible builds at 2
 pm\, so I've invited him to stop by for a Q&A session with the systems res
 earch group before the talk.\n\nHere are a few questions to get started\, 
 bring your own to the session:\n\n- You got your start in open source whil
 e you were an undergraduate in computer science at a UK university\, what 
 do you think we could do to help more of our students engage with open sou
 rce projects?\n\n- A number of open source projects now maintain lists of 
 potential student-sized activities as potential Google Summer of Code or O
 utreachy projects. CS students at Cambridge do a series of practical imple
 mentation projects as part of completing their degrees. Possible synergy? 
 Students working on real-world open source projects as part of their degre
 e requirements?\n\n- I use Debian/Ubuntu in my research or/and I work on o
 pen source project X\, how do I make sure Y package is up-to-date in Debia
 n?
LOCATION:Computer Laboratory\, William Gates Building\, Room FW11
END:VEVENT
END:VCALENDAR
