BEGIN:VCALENDAR
VERSION:2.0
PRODID:-//Talks.cam//talks.cam.ac.uk//
X-WR-CALNAME:Talks.cam
BEGIN:VEVENT
SUMMARY:Community-based obesity and diabetes prevention Interventions - Wh
 at do we know? - Professor Janice Thompson\, Department of Exercise\, Bris
 tol
DTSTART:20080519T150000Z
DTEND:20080519T160000Z
UID:TALK11476@talks.cam.ac.uk
CONTACT:Duncan Simpson
DESCRIPTION:Monday 19 May "Community-based obesity and diabetes prevention
  Interventions - What do we know?"\nProfessor Janice Thompson\, Department
  of Exercise\,\nNutrition & Health Sciences\nThe University of Bristol 
LOCATION:MRC Human Nutrition Research\, The Elsie Widdowson Laboratory\, F
 ulbourn Road\, Cambridge
END:VEVENT
END:VCALENDAR
