BEGIN:VCALENDAR
VERSION:2.0
PRODID:-//Talks.cam//talks.cam.ac.uk//
X-WR-CALNAME:Talks.cam
BEGIN:VEVENT
SUMMARY:The origins of the French language - Talk in French - Christopher 
 Johnson
DTSTART:20181110T140000Z
DTEND:20181110T153000Z
UID:TALK114772@talks.cam.ac.uk
CONTACT:Patricia Dalby
DESCRIPTION:"Nous savons tous que la LANGUE FRANÇAISE provient principale
 ment du bas latin mais POURQUOI ne ressemble-t-elle pas davantage à l'ita
 lien et l'espagnol ? "\n\nRejoignez-nous à l'Alliance Française Cambridg
 e le 10 NOVEMBRE DE 14H A 15H30.\n\nChristopher Johnson est titulaire d'un
  maîtrise en français et allemand de l'université de Cambridge. Il a su
 ivi des études de philologie avant de faire carrière dans la finance\, d
 ont 22 ans chez une banque française.\n
LOCATION:Venue to be confirmed
END:VEVENT
END:VCALENDAR
