BEGIN:VCALENDAR
VERSION:2.0
PRODID:-//Talks.cam//talks.cam.ac.uk//
X-WR-CALNAME:Talks.cam
BEGIN:VEVENT
SUMMARY:Design of Catalysts for the Olefin Metathesis reaction: Applicatio
 ns in Synthesis - Professor Robert H Grubbs (CalTech\, USA)
DTSTART:20080519T160000Z
DTEND:20080519T170000Z
UID:TALK11484@talks.cam.ac.uk
CONTACT:Duncan Simpson
DESCRIPTION:May 19th\, 5.00 pm BMS Lecture Theatre\, The Merck Lecture \nP
 rofessor Robert H Grubbs (CalTech\, USA) \nDesign of Catalysts for the Ole
 fin Metathesis reaction: Applications in Synthesis \nLecture to be followe
 d by a Wine Reception in the CyberCafe 
LOCATION:Bristol-Myers Squibb Lecture Theatre\, Department of Chemistry
END:VEVENT
END:VCALENDAR
