BEGIN:VCALENDAR
VERSION:2.0
PRODID:-//Talks.cam//talks.cam.ac.uk//
X-WR-CALNAME:Talks.cam
BEGIN:VEVENT
SUMMARY:A Hermitian K-group via geometry - Manuel Krannich (University of 
 Cambridge\; University of Copenhagen)
DTSTART:20181115T160000Z
DTEND:20181115T161500Z
UID:TALK114922@talks.cam.ac.uk
CONTACT:INI IT
DESCRIPTION:
LOCATION:Seminar Room 2\, Newton Institute
END:VEVENT
END:VCALENDAR
