BEGIN:VCALENDAR
VERSION:2.0
PRODID:-//Talks.cam//talks.cam.ac.uk//
X-WR-CALNAME:Talks.cam
BEGIN:VEVENT
SUMMARY:Grout (or the story of how my coauthor stopped me from naming thin
 gs) - Scott Balchin (University of Warwick)
DTSTART:20181115T153000Z
DTEND:20181115T154500Z
UID:TALK114928@talks.cam.ac.uk
CONTACT:INI IT
DESCRIPTION:
LOCATION:Seminar Room 2\, Newton Institute
END:VEVENT
END:VCALENDAR
